1.52770683746838
0.00000000000000
0.00000000000000
-1.52770683746838
-155003.67141619251925
-27793.16250564600341
