1.52614986934919
0.00000000000000
0.00000000000000
-1.52614986934919
-165309.99819609752740
227.86395370074104
