1.52902457316065
0.00000000000000
0.00000000000000
-1.52902457316065
-99691.33827165940602
-14640.14905720501520
