1.52897757239341
0.00000000000000
0.00000000000000
-1.52897757239341
-154359.08510532221408
30.98080560287086
