1.52926906211150
0.00000000000000
0.00000000000000
-1.52926906211150
-99916.08953380705498
-42486.85159209747508
