1.52962454647450
0.00000000000000
0.00000000000000
-1.52962454647450
-154742.08296858504764
-13726.77920019683552
