1.52920085041039
0.00000000000000
0.00000000000000
-1.52920085041039
-144032.94092656319845
-41950.88525738255703
