1.52779100630898
0.00000000000000
0.00000000000000
-1.52779100630898
-176507.82127774535911
496.74011288783714
