1.52837512875233
0.00000000000000
0.00000000000000
-1.52837512875233
-143508.61345194853493
-14127.19297325644038
