1.52759510069107
0.00000000000000
0.00000000000000
-1.52759510069107
-176750.01002641202649
-13362.68462163479489
