1.52804324669977
0.00000000000000
0.00000000000000
-1.52804324669977
-177128.51843701140024
-27189.93003207183574
