1.52975666928304
0.00000000000000
0.00000000000000
-1.52975666928304
-132649.29801735404180
-340.54164752397628
