1.52823408162366
0.00000000000000
0.00000000000000
-1.52823408162366
-166093.05624425274436
-41516.31114002613322
