1.52922086661827
0.00000000000000
0.00000000000000
-1.52922086661827
-121438.87661826136173
-14345.32774090123894
