1.52729905011838
0.00000000000000
0.00000000000000
-1.52729905011838
-165773.95832130275085
-27576.71234499702769
