1.52736026080594
0.00000000000000
0.00000000000000
-1.52736026080594
-133020.46614870632766
-42080.66187109656312
