1.52889692444995
0.00000000000000
0.00000000000000
-1.52889692444995
-110743.89063178696961
-14484.42368299366171
