1.52919382519259
0.00000000000000
0.00000000000000
-1.52919382519259
-155400.84903077813215
-41672.72824530937214
