1.52755702126455
0.00000000000000
0.00000000000000
-1.52755702126455
-144068.56460507551674
-27779.07168765871029
