1.52886938127172
0.00000000000000
0.00000000000000
-1.52886938127172
-177238.23947842585039
-41244.34124187174893
