1.52768214633149
0.00000000000000
0.00000000000000
-1.52768214633149
-99400.83014701571665
-654.05536454558387
