1.52871048785643
0.00000000000000
0.00000000000000
-1.52871048785643
-110849.85432371597562
-28555.54524300608318
