1.52856913138856
0.00000000000000
0.00000000000000
-1.52856913138856
-99695.47250560775865
-28639.03400697134566
