1.52777520296446
0.00000000000000
0.00000000000000
-1.52777520296446
-122112.27613033339730
-42289.64362364440603
