1.52794315913689
0.00000000000000
0.00000000000000
-1.52794315913689
-110422.88316096513881
-706.45582768328495
