1.52983400082557
0.00000000000000
0.00000000000000
-1.52983400082557
-121476.70817642992188
-517.88203369096482
