1.52588470977662
0.00000000000000
0.00000000000000
-1.52588470977662
-165596.59452218885417
-13665.76211316996341
