1.52761752234498
0.00000000000000
0.00000000000000
-1.52761752234498
-132886.85523240137263
-28163.71488810322626
