1.52800954308560
0.00000000000000
0.00000000000000
-1.52800954308560
-132684.16044120991137
-14162.70613832703930
