1.52980310914955
0.00000000000000
0.00000000000000
-1.52980310914955
-121934.40729468135396
-28267.35162798714737
