1.52806716491659
0.00000000000000
0.00000000000000
-1.52806716491659
-110971.08196525102539
-42477.52918569337635
