1.52775358230716
0.00000000000000
0.00000000000000
-1.52775358230716
-143505.83069780073129
-189.59277282412185
