1.52836620846084
0.00000000000000
0.00000000000000
-1.52836620846084
-211947.16688958913437
-96016.08343107055407
