1.52751179097053
0.00000000000000
0.00000000000000
-1.52751179097053
-200118.83751967086573
-82548.03251551061112
