1.52797435032235
0.00000000000000
0.00000000000000
-1.52797435032235
-189089.55879999330500
-82754.88171751621121
