1.52781887614511
0.00000000000000
0.00000000000000
-1.52781887614511
-188731.58935182058485
-68850.64477936817275
