1.52732998594324
0.00000000000000
0.00000000000000
-1.52732998594324
-200479.73506810661638
-96397.99942189060675
