1.52811639316174
0.00000000000000
0.00000000000000
-1.52811639316174
-189395.19768572290195
-96663.04170366263133
