1.52814100461569
0.00000000000000
0.00000000000000
-1.52814100461569
-211171.51943515989115
-82185.03709525497106
