1.52820969872625
0.00000000000000
0.00000000000000
-1.52820969872625
-221519.49815559020499
-54150.66487121562386
