1.52753381546358
0.00000000000000
0.00000000000000
-1.52753381546358
-210933.23551139558549
-68318.97350412493688
