1.52864556133758
0.00000000000000
0.00000000000000
-1.52864556133758
-200025.42287685783231
-68404.35701300782966
