1.60554374563185
0.00000000000000
0.00000000000000
-1.60554374563185
-189202.61580062890425
-54322.11880324874073
