1.52851517476100
0.00000000000000
0.00000000000000
-1.52851517476100
-199580.40240982541582
-54689.16132693293184
