1.52894812706217
0.00000000000000
0.00000000000000
-1.52894812706217
-222280.08025539308437
-81886.28258283405739
