1.52800309883363
0.00000000000000
0.00000000000000
-1.52800309883363
-221934.01307739230106
-67987.48976787677384
