1.52874505303738
0.00000000000000
0.00000000000000
-1.52874505303738
-210696.53288746916223
-54262.49805893996381
