1.52891660420422
0.00000000000000
0.00000000000000
-1.52891660420422
-242127.17346692623687
2056.24627594684625
