1.52641286858626
0.00000000000000
0.00000000000000
-1.52641286858626
-198427.69627212840714
982.25741885509092
