1.52664242501545
0.00000000000000
0.00000000000000
-1.52664242501545
-253241.82446251381771
2486.50272265172816
